BEGIN:VCALENDAR
VERSION:2.0
PRODID:gruene-vechta.de
METHOD:PUBLISH
BEGIN:VTIMEZONE
TZID:Europe/Berlin
X-LIC-LOCATION:Europe/Berlin
BEGIN:DAYLIGHT
TZOFFSETFROM:+0100
TZOFFSETTO:+0200
TZNAME:CEST
DTSTART:19700329T020000
RRULE:FREQ=YEARLY;INTERVAL=1;BYDAY=-1SU;BYMONTH=3
END:DAYLIGHT
BEGIN:STANDARD
TZOFFSETFROM:+0200
TZOFFSETTO:+0100
TZNAME:CET
DTSTART:19701025T030000
RRULE:FREQ=YEARLY;INTERVAL=1;BYDAY=-1SU;BYMONTH=10
END:STANDARD
END:VTIMEZONE
BEGIN:VEVENT
UID:6a76ac248396715a8a4f8e9162a2a3f6@gruene-vechta.de
URL;VALUE=URI:https://gruene-vechta.de/termine-termine-termine/ortsgruppe
 ntreffen-dammer-berge/
LOCATION:Damme
SUMMARY:Ortsgruppentreffen: Dammer Berge
DESCRIPTION;ALTREP="data:text/html,%3Cp%3EWir%20laden%20alle%20Mitglieder
 %20und%20Interessierten%20herzlich%20zu%20unserem%20Treffen%20der%20Ortsg
 ruppe%20Dammer%20Berge%20ein.%20%3Cbr%20%2F%3E%0ADort%20werden%20neben%20
 aktuellen%20politischen%20Themen%2C%20auch%20solche%20aus%20dem%20Stadtra
 t%20diskutiert.%20%3Cbr%20%2F%3E%0ABei%20Fragen%20gerne%20an%20unsere%20K
 reisgesch%C3%A4ftsstelle%20wenden%3A%20%3Cbr%20%2F%3E%0Akreisverband%40gr
 uene-vechta.de%3C%2Fp%3E":Wir laden alle Mitglieder und Interessierten he
 rzlich zu unserem Treffen der Ortsgruppe Dammer Berge ein.\n\nDort werden
  neben aktuellen politischen Themen\, auch solche aus dem Stadtrat diskut
 iert.\n\nBei Fragen gerne an unsere Kreisgeschäftsstelle wenden:\n\nkrei
 sverband@gruene-vechta.de
CLASS:PUBLIC
DTSTART;TZID=Europe/Berlin:20260506T190000
DTEND;TZID=Europe/Berlin:20260506T210000
DTSTAMP:20260424T140825
END:VEVENT
END:VCALENDAR